BEGIN:VCALENDAR
VERSION:2.0
PRODID:Events Booking
BEGIN:VEVENT
UID:69ece8e4dd3dc
SUMMARY:Sala de Experiencias Digitales SED - 2025
DESCRIPTION:
LOCATION:Calle 70 # 5 - 210\, Bucaramanga\, Colombia
DTSTART:20250514T050000Z
DTEND:20250515T050000Z
DTSTAMP:20250423T013604Z
ORGANIZER;CN=UDES:MAILTO:eventos@udes.edu.co
GEO:7.105606;-73.095111
X-APPLE-STRUCTURED-LOCATION;VALUE=URI;X-ADDRESS=Calle 70 # 5 - 210\, Bucara
 manga\, Colombia;X-APPLE-RADIUS=72;X-TITLE=Bucaramanga:7.105606;-73.095111
END:VEVENT
BEGIN:VEVENT
UID:69ece8e4dd4b4
SUMMARY: Encuentro de Investigadores ENIN 2024
DESCRIPTION:
LOCATION:Calle 70 # 5 - 210\, Bucaramanga\, Colombia
DTSTART:20240521T050000Z
DTEND:20240522T050000Z
DTSTAMP:20240517T030606Z
ORGANIZER;CN=UDES:MAILTO:eventos@udes.edu.co
GEO:7.105606;-73.095111
X-APPLE-STRUCTURED-LOCATION;VALUE=URI;X-ADDRESS=Calle 70 # 5 - 210\, Bucara
 manga\, Colombia;X-APPLE-RADIUS=72;X-TITLE=Bucaramanga:7.105606;-73.095111
END:VEVENT
BEGIN:VEVENT
UID:69ece8e4dd4e1
SUMMARY:Sala de Experiencias Digitales SED 2023
DESCRIPTION:
LOCATION:Calle 70 # 5 - 210\, Bucaramanga\, Colombia
DTSTART:20230926T050000Z
DTEND:20230927T050000Z
DTSTAMP:20230828T213548Z
ORGANIZER;CN=UDES:MAILTO:eventos@udes.edu.co
GEO:7.105606;-73.095111
X-APPLE-STRUCTURED-LOCATION;VALUE=URI;X-ADDRESS=Calle 70 # 5 - 210\, Bucara
 manga\, Colombia;X-APPLE-RADIUS=72;X-TITLE=Bucaramanga:7.105606;-73.095111
END:VEVENT
BEGIN:VEVENT
UID:69ece8e4dd509
SUMMARY:ENIN Encuentro de Investigadores UDES2 2023
DESCRIPTION:
LOCATION:Calle 70 # 5 - 210\, Bucaramanga\, Colombia
DTSTART:20230919T050000Z
DTEND:20230921T050000Z
DTSTAMP:20230901T003741Z
ORGANIZER;CN=UDES:MAILTO:eventos@udes.edu.co
GEO:7.105606;-73.095111
X-APPLE-STRUCTURED-LOCATION;VALUE=URI;X-ADDRESS=Calle 70 # 5 - 210\, Bucara
 manga\, Colombia;X-APPLE-RADIUS=72;X-TITLE=Bucaramanga:7.105606;-73.095111
END:VEVENT
BEGIN:VEVENT
UID:69ece8e4dd530
SUMMARY:¡Postúlate como ponente en el Congreso Internacional de Tecnolog
 ía y Educación - Teduca 2023! 
DESCRIPTION:
LOCATION:Calle 70 # 5 - 210\, Bucaramanga\, Colombia
DTSTART:20230701T050000Z
DTEND:20230701T050000Z
DTSTAMP:20230617T012419Z
ORGANIZER;CN=UDES:MAILTO:eventos@udes.edu.co
GEO:7.105606;-73.095111
X-APPLE-STRUCTURED-LOCATION;VALUE=URI;X-ADDRESS=Calle 70 # 5 - 210\, Bucara
 manga\, Colombia;X-APPLE-RADIUS=72;X-TITLE=Bucaramanga:7.105606;-73.095111
END:VEVENT
BEGIN:VEVENT
UID:69ece8e4dd54f
SUMMARY: Encuentro de Investigadores 'ENIN 2023'
DESCRIPTION:
LOCATION:Calle 70 # 5 - 210\, Bucaramanga\, Colombia
DTSTART:20230529T230000Z
DTEND:20230601T014000Z
DTSTAMP:20230526T195829Z
ORGANIZER;CN=UDES:MAILTO:eventos@udes.edu.co
GEO:7.105606;-73.095111
X-APPLE-STRUCTURED-LOCATION;VALUE=URI;X-ADDRESS=Calle 70 # 5 - 210\, Bucara
 manga\, Colombia;X-APPLE-RADIUS=72;X-TITLE=Bucaramanga:7.105606;-73.095111
END:VEVENT
BEGIN:VEVENT
UID:69ece8e4dd576
SUMMARY:Cátedra abierta Tomás Darío Gutiérrez
DESCRIPTION:
DTSTART:20220420T210000Z
DTEND:20220421T230000Z
DTSTAMP:20260425T111636Z
ORGANIZER;CN=UDES:MAILTO:eventos@udes.edu.co
END:VEVENT
BEGIN:VEVENT
UID:69ece8e4dd592
SUMMARY:Elección Representantes Estudiantiles
DESCRIPTION:
LOCATION:Cra. 6 No. 14 - 27\, Valledupar Colombia
DTSTART:20220225T130000Z
DTEND:20220225T210000Z
DTSTAMP:20260425T111636Z
ORGANIZER;CN=UDES:MAILTO:eventos@udes.edu.co
GEO:10.478463;-73.247572
X-APPLE-STRUCTURED-LOCATION;VALUE=URI;X-ADDRESS=Cra. 6 No. 14 - 27\, Valled
 upar Colombia;X-APPLE-RADIUS=72;X-TITLE=Valledupar:10.478463;-73.247572
END:VEVENT
END:VCALENDAR